BEGIN:VCALENDAR
VERSION:2.0
PRODID:-//www.gfchurchfamily.com//NONSGML kigkonsult.se iCalcreator 2.39.1/
 /
CALSCALE:GREGORIAN
METHOD:PUBLISH
UID:106a2e79-5e37-4d9b-8ba0-a230cfdb9f53
X-WR-CALNAME:www.gfchurchfamily.com
X-WR-CALDESC:www.gfchurchfamily.com
X-WR-TIMEZONE:America/Los_Angeles
X-LIC-LOCATION:America/Los_Angeles
BEGIN:VEVENT
UID:a629e34c-dab1-472f-a037-600ca68eaee3
DTSTAMP:20260423T122045Z
CLASS:PUBLIC
DTSTART;TZID=America/Los_Angeles:20260426T093000
DTEND;TZID=America/Los_Angeles:20260426T103000
SUMMARY:Sunday School
TRANSP:OPAQUE
BEGIN:VALARM
ACTION:DISPLAY
DESCRIPTION:Sunday School
TRIGGER:-PT15M
END:VALARM
END:VEVENT
END:VCALENDAR
